BEGIN:VCALENDAR
VERSION:2.0
PRODID:SchoolNow
CALSCALE:GREGORIAN
BEGIN:VEVENT
UID:38271b50-6c31-11f0-9d6a-0a58a9feac02
DTSTAMP:20251216T200037Z
SUMMARY:Winter Break (No School)
LOCATION:Victor Elementary School\, 4820 Spencer St\, Torrance\, CA 90503\,
  USA
URL;VALUE=URI:https://www.tusd.org/schools/victor/calendar/8454400/winter-b
 reak-no-school
DTSTART;VALUE=DATE:20251222
DTEND;VALUE=DATE:20260103
END:VEVENT
END:VCALENDAR
