BEGIN:VCALENDAR
VERSION:2.0
PRODID:SchoolNow
CALSCALE:GREGORIAN
BEGIN:VEVENT
UID:38271a6a-6c31-11f0-8a0a-0a58a9feac02
DTSTAMP:20251216T200037Z
SUMMARY:PTA Association Meeting/Holiday Concert
LOCATION:Victor Elementary School\, 4820 Spencer St\, Torrance\, CA 90503\,
  USA
URL;VALUE=URI:https://www.tusd.org/schools/victor/calendar/8454399/pta-asso
 ciation-meeting-holiday-concert
DTSTART:20251219T020000Z
DTEND:20251219T030000Z
END:VEVENT
END:VCALENDAR
