BEGIN:VCALENDAR
VERSION:2.0
PRODID:SchoolNow
CALSCALE:GREGORIAN
BEGIN:VEVENT
UID:38271984-6c31-11f0-b235-0a58a9feac02
DTSTAMP:20251216T200037Z
SUMMARY:Victor PTA Board Holiday Dinner Meeting
LOCATION:MB Grill - Torrance\, 21536 Hawthorne Blvd\, Torrance\, CA 90503\,
  USA
URL;VALUE=URI:https://www.tusd.org/schools/victor/calendar/8454398/victor-p
 ta-board-holiday-dinner-meeting
DTSTART:20251212T010000Z
DTEND:20251212T020000Z
END:VEVENT
END:VCALENDAR
