BEGIN:VCALENDAR
VERSION:2.0
PRODID:SchoolNow
CALSCALE:GREGORIAN
BEGIN:VEVENT
UID:382718a8-6c31-11f0-b21f-0a58a9feac02
DTSTAMP:20251216T200037Z
SUMMARY:Victor Trunk or Treat Event
LOCATION:Victor Elementary School\, 4820 Spencer St\, Torrance\, CA 90503\,
  USA
URL;VALUE=URI:https://www.tusd.org/schools/victor/calendar/8454397/victor-t
 runk-or-treat-event
DTSTART:20251025T003000Z
DTEND:20251025T024500Z
END:VEVENT
END:VCALENDAR
