BEGIN:VCALENDAR
VERSION:2.0
PRODID:SchoolNow
CALSCALE:GREGORIAN
BEGIN:VEVENT
UID:38271600-6c31-11f0-ab09-0a58a9feac02
DTSTAMP:20251216T200037Z
SUMMARY:Victor PTA Movie Night
LOCATION:Victor Elementary School\, 4820 Spencer St\, Torrance\, CA 90503\,
  USA
URL;VALUE=URI:https://www.tusd.org/schools/victor/calendar/8454394/victor-p
 ta-movie-night
DTSTART:20251108T020000Z
DTEND:20251108T050000Z
END:VEVENT
END:VCALENDAR
