BEGIN:VCALENDAR
VERSION:2.0
PRODID:SchoolNow
CALSCALE:GREGORIAN
BEGIN:VEVENT
UID:3827151a-6c31-11f0-a37d-0a58a9feac02
DTSTAMP:20251216T200037Z
SUMMARY:Day of the Dead Celebration
LOCATION:Victor Elementary School\, 4820 Spencer St\, Torrance\, CA 90503\,
  USA
URL;VALUE=URI:https://www.tusd.org/schools/victor/calendar/8454393/day-of-t
 he-dead-celebration
DTSTART;VALUE=DATE:20251103
DTEND;VALUE=DATE:20251105
END:VEVENT
END:VCALENDAR
