BEGIN:VCALENDAR
VERSION:2.0
PRODID:SchoolNow
CALSCALE:GREGORIAN
BEGIN:VEVENT
UID:3827142a-6c31-11f0-934c-0a58a9feac02
DTSTAMP:20251216T200037Z
SUMMARY:Victor Halloween Parade
LOCATION:Victor Elementary School\, 4820 Spencer St\, Torrance\, CA 90503\,
  USA
URL;VALUE=URI:https://www.tusd.org/schools/victor/calendar/8454392/victor-h
 alloween-parade
DTSTART:20251031T160000Z
DTEND:20251031T173000Z
END:VEVENT
END:VCALENDAR
