BEGIN:VCALENDAR
VERSION:2.0
PRODID:SchoolNow
CALSCALE:GREGORIAN
BEGIN:VEVENT
UID:382712c2-6c31-11f0-97de-0a58a9feac02
DTSTAMP:20251216T200037Z
SUMMARY:Red Ribbon Week
LOCATION:Victor Elementary School\, 4820 Spencer St\, Torrance\, CA 90503\,
  USA
URL;VALUE=URI:https://www.tusd.org/schools/victor/calendar/8454391/red-ribb
 on-week
DTSTART;VALUE=DATE:20251020
DTEND;VALUE=DATE:20251025
END:VEVENT
END:VCALENDAR
