BEGIN:VCALENDAR
VERSION:2.0
PRODID:SchoolNow
CALSCALE:GREGORIAN
BEGIN:VEVENT
UID:382711dc-6c31-11f0-89d5-0a58a9feac02
DTSTAMP:20251216T200037Z
SUMMARY:Skechers  Pier to Pier Friendshiip Walk
LOCATION:Manhattan Beach Pier\, 2 Manhattan Beach Blvd\, Manhattan Beach\, 
 CA 90266\, USA
URL;VALUE=URI:https://www.tusd.org/schools/victor/calendar/8454390/skechers
 -pier-to-pier-friendshiip-walk
DTSTART;VALUE=DATE:20251019
DTEND;VALUE=DATE:20251020
END:VEVENT
END:VCALENDAR
