BEGIN:VCALENDAR
VERSION:2.0
PRODID:SchoolNow
CALSCALE:GREGORIAN
BEGIN:VEVENT
UID:38270ffc-6c31-11f0-bf39-0a58a9feac02
DTSTAMP:20251216T200037Z
SUMMARY:Victor PTA Multicultural Celebration Night
LOCATION:Victor Elementary School\, 4820 Spencer St\, Torrance\, CA 90503\,
  USA
URL;VALUE=URI:https://www.tusd.org/schools/victor/calendar/8454388/victor-p
 ta-multicultural-celebration-night
DTSTART:20250926T003000Z
DTEND:20250926T020000Z
END:VEVENT
END:VCALENDAR
