BEGIN:VCALENDAR
VERSION:2.0
PRODID:SchoolNow
CALSCALE:GREGORIAN
BEGIN:VEVENT
UID:38270ef8-6c31-11f0-b5eb-0a58a9feac02
DTSTAMP:20251216T200037Z
SUMMARY:Victor PTA Association meeting
URL;VALUE=URI:https://www.tusd.org/schools/victor/calendar/8454387/victor-p
 ta-association-meeting
DTSTART:20250912T010000Z
DTEND:20250912T013000Z
END:VEVENT
END:VCALENDAR
