BEGIN:VCALENDAR
VERSION:2.0
PRODID:SchoolNow
CALSCALE:GREGORIAN
BEGIN:VEVENT
UID:38270dc2-6c31-11f0-852b-0a58a9feac02
DTSTAMP:20251216T200037Z
SUMMARY:Victor PTA Board Meeting
URL;VALUE=URI:https://www.tusd.org/schools/victor/calendar/8454386/victor-p
 ta-board-meeting
DTSTART:20250905T000000Z
DTEND:20250905T010000Z
END:VEVENT
END:VCALENDAR
