BEGIN:VCALENDAR
VERSION:2.0
PRODID:SchoolNow
CALSCALE:GREGORIAN
BEGIN:VEVENT
UID:38270c50-6c31-11f0-978e-0a58a9feac02
DTSTAMP:20251216T200037Z
SUMMARY:VICTOR PTA READ-A-THON FUNDRAISER
LOCATION:Victor Elementary School\, 4820 Spencer St\, Torrance\, CA 90503\,
  USA
URL;VALUE=URI:https://www.tusd.org/schools/victor/calendar/8454385/victor-p
 ta-read-a-thon-fundraiser
DTSTART;VALUE=DATE:20250902
DTEND;VALUE=DATE:20250920
END:VEVENT
END:VCALENDAR
