BEGIN:VCALENDAR
VERSION:2.0
PRODID:SchoolNow
CALSCALE:GREGORIAN
BEGIN:VEVENT
UID:3a3f39e6-6bfe-11f0-a6bb-0a58a9feac02
DTSTAMP:20251216T200037Z
SUMMARY:Victor Campus Open to All Victor Families
LOCATION:Victor Elementary School\, 4820 Spencer St\, Torrance\, CA 90503\,
  USA
URL;VALUE=URI:https://www.tusd.org/schools/victor/calendar/8453757/victor-c
 ampus-open-to-all-victor-families
DTSTART:20250821T000000Z
DTEND:20250821T010000Z
END:VEVENT
END:VCALENDAR
