BEGIN:VCALENDAR
VERSION:2.0
PRODID:SchoolNow
CALSCALE:GREGORIAN
BEGIN:VEVENT
UID:3a3f3680-6bfe-11f0-8752-0a58a9feac02
DTSTAMP:20251216T200037Z
SUMMARY:Victor PTA Ice Cream Social
URL;VALUE=URI:https://www.tusd.org/schools/victor/calendar/8453756/victor-p
 ta-ice-cream-social
DTSTART:20250829T003000Z
DTEND:20250829T013000Z
END:VEVENT
END:VCALENDAR
