BEGIN:VCALENDAR
VERSION:2.0
PRODID:SchoolNow
CALSCALE:GREGORIAN
BEGIN:VEVENT
UID:1e020aa2-5c44-11f0-989b-0a58a9feac02
DTSTAMP:20251216T200037Z
SUMMARY:Victor Back to School Night
LOCATION:Victor Elementary School\, 4820 Spencer St\, Torrance\, CA 90503\,
  USA
URL;VALUE=URI:https://www.tusd.org/schools/victor/calendar/8397089/victor-b
 ack-to-school-night
DTSTART:20250912T000000Z
DTEND:20250912T020000Z
END:VEVENT
END:VCALENDAR
