BEGIN:VCALENDAR
VERSION:2.0
PRODID:SchoolNow
CALSCALE:GREGORIAN
BEGIN:VEVENT
UID:ae75194e-3b38-11f0-bda3-0affe7164559
DTSTAMP:20251216T200037Z
SUMMARY:DELMAC Meeting
URL;VALUE=URI:https://www.tusd.org/schools/victor/calendar/8209316/delmac-m
 eeting
DTSTART:20260515T170000Z
DTEND:20260515T190000Z
END:VEVENT
END:VCALENDAR
