BEGIN:VCALENDAR
VERSION:2.0
PRODID:SchoolNow
CALSCALE:GREGORIAN
BEGIN:VEVENT
UID:ae75175a-3b38-11f0-b9e1-0affe7164559
DTSTAMP:20251216T200037Z
SUMMARY:DELMAC Meeting
URL;VALUE=URI:https://www.tusd.org/schools/victor/calendar/8209314/delmac-m
 eeting
DTSTART:20260123T180000Z
DTEND:20260123T200000Z
END:VEVENT
END:VCALENDAR
