BEGIN:VCALENDAR
VERSION:2.0
PRODID:SchoolNow
CALSCALE:GREGORIAN
BEGIN:VEVENT
UID:ae751624-3b38-11f0-9811-0affe7164559
DTSTAMP:20251216T200037Z
SUMMARY:DELMAC Meeting
URL;VALUE=URI:https://www.tusd.org/schools/victor/calendar/8209313/delmac-m
 eeting
DTSTART:20251017T170000Z
DTEND:20251017T190000Z
END:VEVENT
END:VCALENDAR
