BEGIN:VCALENDAR
VERSION:2.0
PRODID:SchoolNow
CALSCALE:GREGORIAN
BEGIN:VEVENT
UID:ae751296-3b38-11f0-b7b0-0affe7164559
DTSTAMP:20251216T200037Z
SUMMARY:DELMAC Parent Conference
URL;VALUE=URI:https://www.tusd.org/schools/victor/calendar/8209312/delmac-p
 arent-conference
DTSTART:20251212T170000Z
DTEND:20251212T200000Z
END:VEVENT
END:VCALENDAR
