BEGIN:VCALENDAR
VERSION:2.0
PRODID:SchoolNow
CALSCALE:GREGORIAN
BEGIN:VEVENT
UID:d0805f40-2caf-11f0-92b1-0a58a9feac02
DTSTAMP:20251216T200037Z
SUMMARY:Victor New Parent/Caregiver Orientation
LOCATION:Victor Elementary School\, 4820 Spencer St\, Torrance\, CA 90503\,
  USA
URL;VALUE=URI:https://www.tusd.org/schools/victor/calendar/8095964/victor-n
 ew-parent-caregiver-orientation
DTSTART:20250821T010000Z
DTEND:20250821T020000Z
END:VEVENT
END:VCALENDAR
