BEGIN:VCALENDAR
VERSION:2.0
PRODID:SchoolNow
CALSCALE:GREGORIAN
BEGIN:VEVENT
UID:7cc57092-2157-11f0-9530-0214879f4b89
DTSTAMP:20251216T200037Z
SUMMARY:Vision and Hearing Screenings
LOCATION:Victor Elementary School\, 4820 Spencer St\, Torrance\, CA 90503\,
  USA
URL;VALUE=URI:https://www.tusd.org/schools/victor/calendar/8001114/vision-a
 nd-hearing-screenings
DTSTART;VALUE=DATE:20251023
DTEND;VALUE=DATE:20251024
END:VEVENT
END:VCALENDAR
