BEGIN:VCALENDAR
VERSION:2.0
PRODID:SchoolNow
CALSCALE:GREGORIAN
BEGIN:VEVENT
UID:7dfbba3e-037a-11f0-8f81-02a2947f2e81
DTSTAMP:20251216T200037Z
SUMMARY:LA Street Smarts Assembly (Traffic Safety)
LOCATION:Victor Elementary School\, 4820 Spencer St\, Torrance\, CA 90503\,
  USA
URL;VALUE=URI:https://www.tusd.org/schools/victor/calendar/7708307/la-stree
 t-smarts-assembly-traffic-safety
DTSTART;VALUE=DATE:20250909
DTEND;VALUE=DATE:20250910
END:VEVENT
END:VCALENDAR
