BEGIN:VCALENDAR
VERSION:2.0
PRODID:SchoolNow
CALSCALE:GREGORIAN
BEGIN:VEVENT
UID:c612b32a-fde6-11ef-a250-0a58a9feac02
DTSTAMP:20251216T200037Z
SUMMARY:FIRST DAY OF SCHOOL
URL;VALUE=URI:https://www.tusd.org/schools/victor/calendar/7650846/first-da
 y-of-school
DTSTART;VALUE=DATE:20250821
DTEND;VALUE=DATE:20250822
END:VEVENT
END:VCALENDAR
