BEGIN:VCALENDAR
VERSION:2.0
PRODID:SchoolNow
CALSCALE:GREGORIAN
BEGIN:VEVENT
UID:c612b1ea-fde6-11ef-8f37-0a58a9feac02
DTSTAMP:20251216T200037Z
SUMMARY:Victor Kindergarten Orientation
LOCATION:Victor Elementary School\, 4820 Spencer St\, Torrance\, CA 90503\,
  USA
URL;VALUE=URI:https://www.tusd.org/schools/victor/calendar/7650845/victor-k
 indergarten-orientation
DTSTART:20250819T010000Z
DTEND:20250819T020000Z
END:VEVENT
END:VCALENDAR
