BEGIN:VCALENDAR
VERSION:2.0
PRODID:SchoolNow
CALSCALE:GREGORIAN
BEGIN:VEVENT
UID:c612ae7a-fde6-11ef-bd56-0a58a9feac02
DTSTAMP:20251216T200037Z
SUMMARY:Victor TK Orientation
LOCATION:Victor Elementary School\, 4820 Spencer St\, Torrance\, CA 90503\,
  USA
URL;VALUE=URI:https://www.tusd.org/schools/victor/calendar/7650844/victor-t
 k-orientation
DTSTART:20250819T000000Z
DTEND:20250819T010000Z
END:VEVENT
END:VCALENDAR
