BEGIN:VCALENDAR
VERSION:2.0
PRODID:SchoolNow
CALSCALE:GREGORIAN
BEGIN:VEVENT
UID:0259b41c-b8ba-11f0-aaeb-0a58a9feac02
DTSTAMP:20251216T154619Z
SUMMARY:Black History Month
URL;VALUE=URI:https://www.tusd.org/schools/tykes/calendar/8770581/black-his
 tory-month
DTSTART;VALUE=DATE:20260201
DTEND;VALUE=DATE:20260301
END:VEVENT
END:VCALENDAR
