BEGIN:VCALENDAR
VERSION:2.0
PRODID:SchoolNow
CALSCALE:GREGORIAN
BEGIN:VEVENT
UID:0259b250-b8ba-11f0-bb32-0a58a9feac02
DTSTAMP:20251216T154619Z
SUMMARY:Juneteenth
URL;VALUE=URI:https://www.tusd.org/schools/tykes/calendar/8770579/juneteent
 h
DTSTART;VALUE=DATE:20260619
DTEND;VALUE=DATE:20260620
END:VEVENT
END:VCALENDAR
