BEGIN:VCALENDAR
VERSION:2.0
PRODID:SchoolNow
CALSCALE:GREGORIAN
BEGIN:VEVENT
UID:0259a788-b8ba-11f0-98ce-0a58a9feac02
DTSTAMP:20251216T154619Z
SUMMARY:Hispanic Heritage Month
URL;VALUE=URI:https://www.tusd.org/schools/tykes/calendar/8770571/hispanic-
 heritage-month
DTSTART;VALUE=DATE:20250915
DTEND;VALUE=DATE:20251016
END:VEVENT
END:VCALENDAR
