BEGIN:VCALENDAR
VERSION:2.0
PRODID:SchoolNow
CALSCALE:GREGORIAN
BEGIN:VEVENT
UID:6a216cda-9f31-11ec-a001-0283c0b3a879
DTSTAMP:20220308T224512Z
SUMMARY:Last Day of School
URL;VALUE=URI:https://www.tusd.org/schools/tykes/calendar/3128026/last-day-
 of-school
DTSTART;VALUE=DATE:20220616
DTEND;VALUE=DATE:20220617
END:VEVENT
END:VCALENDAR
