BEGIN:VCALENDAR
VERSION:2.0
PRODID:SchoolNow
CALSCALE:GREGORIAN
BEGIN:VEVENT
UID:2e817da6-d48d-11f0-9df8-0205a394177b
DTSTAMP:20251217T081016Z
SUMMARY:5th Grade Field Trip to the Reagan Library
URL;VALUE=URI:https://www.tusd.org/schools/towers/calendar/8820203/5th-grad
 e-field-trip-to-the-reagan-library
DTSTART;VALUE=DATE:20260409
DTEND;VALUE=DATE:20260410
END:VEVENT
END:VCALENDAR
