BEGIN:VCALENDAR
VERSION:2.0
PRODID:SchoolNow
CALSCALE:GREGORIAN
BEGIN:VEVENT
UID:c31fe678-a99f-11f0-9bb1-02e764cdcd79
DTSTAMP:20251217T081015Z
SUMMARY:3rd Gr. Field Trip to the Angels Gates Cultural Center (1 class)
URL;VALUE=URI:https://www.tusd.org/schools/towers/calendar/8723664/3rd-gr-f
 ield-trip-to-the-angels-gates-cultural-center-1-class
DTSTART;VALUE=DATE:20260416
DTEND;VALUE=DATE:20260417
END:VEVENT
END:VCALENDAR
