BEGIN:VCALENDAR
VERSION:2.0
PRODID:SchoolNow
CALSCALE:GREGORIAN
BEGIN:VEVENT
UID:c31fe588-a99f-11f0-86e8-02e764cdcd79
DTSTAMP:20251217T081015Z
SUMMARY:3rd Gr. FIeld Trip to the Angels Gates Cultural Center (2 classes)
URL;VALUE=URI:https://www.tusd.org/schools/towers/calendar/8723663/3rd-gr-f
 ield-trip-to-the-angels-gates-cultural-center-2-classes
DTSTART;VALUE=DATE:20260409
DTEND;VALUE=DATE:20260410
END:VEVENT
END:VCALENDAR
