BEGIN:VCALENDAR
VERSION:2.0
PRODID:SchoolNow
CALSCALE:GREGORIAN
BEGIN:VEVENT
UID:c31fe47a-a99f-11f0-b35e-02e764cdcd79
DTSTAMP:20251217T081015Z
SUMMARY:4th Gr. Field Trip to the Angels Gates Cultural Center
URL;VALUE=URI:https://www.tusd.org/schools/towers/calendar/8723662/4th-gr-f
 ield-trip-to-the-angels-gates-cultural-center
DTSTART;VALUE=DATE:20260319
DTEND;VALUE=DATE:20260320
END:VEVENT
END:VCALENDAR
