BEGIN:VCALENDAR
VERSION:2.0
PRODID:SchoolNow
CALSCALE:GREGORIAN
BEGIN:VEVENT
UID:c31fe358-a99f-11f0-b7a3-02e764cdcd79
DTSTAMP:20251217T081015Z
SUMMARY:4th Gr. Field Trip to the Angels Gates Cultural Center (2 classes)
URL;VALUE=URI:https://www.tusd.org/schools/towers/calendar/8723661/4th-gr-f
 ield-trip-to-the-angels-gates-cultural-center-2-classes
DTSTART;VALUE=DATE:20260317
DTEND;VALUE=DATE:20260318
END:VEVENT
END:VCALENDAR
