BEGIN:VCALENDAR
VERSION:2.0
PRODID:SchoolNow
CALSCALE:GREGORIAN
BEGIN:VEVENT
UID:c31fe20e-a99f-11f0-a7b3-02e764cdcd79
DTSTAMP:20251217T081015Z
SUMMARY:1st Grade Field Trip to Natural History Museum
URL;VALUE=URI:https://www.tusd.org/schools/towers/calendar/8723660/1st-grad
 e-field-trip-to-natural-history-museum
DTSTART;VALUE=DATE:20251114
DTEND;VALUE=DATE:20251115
END:VEVENT
END:VCALENDAR
