BEGIN:VCALENDAR
VERSION:2.0
PRODID:SchoolNow
CALSCALE:GREGORIAN
BEGIN:VEVENT
UID:c31fddea-a99f-11f0-be89-02e764cdcd79
DTSTAMP:20251217T081015Z
SUMMARY:Mendocino Restaurant Night
URL;VALUE=URI:https://www.tusd.org/schools/towers/calendar/8723659/mendocin
 o-restaurant-night
DTSTART;VALUE=DATE:20251113
DTEND;VALUE=DATE:20251114
END:VEVENT
END:VCALENDAR
