BEGIN:VCALENDAR
VERSION:2.0
PRODID:SchoolNow
CALSCALE:GREGORIAN
BEGIN:VEVENT
UID:c5a56dec-a96c-11f0-9a1e-029be8f4bcf9
DTSTAMP:20251217T081015Z
SUMMARY:District Spelling Bee @ Hull MS
URL;VALUE=URI:https://www.tusd.org/schools/towers/calendar/8723079/district
 -spelling-bee-hull-ms
DTSTART:20260123T010000Z
DTEND:20260123T020000Z
END:VEVENT
END:VCALENDAR
