BEGIN:VCALENDAR
VERSION:2.0
PRODID:SchoolNow
CALSCALE:GREGORIAN
BEGIN:VEVENT
UID:c5a54704-a96c-11f0-b351-029be8f4bcf9
DTSTAMP:20251217T081015Z
SUMMARY:District STEAM Fair
URL;VALUE=URI:https://www.tusd.org/schools/towers/calendar/8723078/district
 -steam-fair
DTSTART:20260306T030000Z
DTEND:20260306T040000Z
END:VEVENT
END:VCALENDAR
