BEGIN:VCALENDAR
VERSION:2.0
PRODID:SchoolNow
CALSCALE:GREGORIAN
BEGIN:VEVENT
UID:661b98e8-9d13-11f0-b441-0a58a9feac02
DTSTAMP:20251217T081016Z
SUMMARY:Panda Express Restaurant Night
URL;VALUE=URI:https://www.tusd.org/schools/towers/calendar/8675729/panda-ex
 press-restaurant-night
DTSTART;VALUE=DATE:20251030
DTEND;VALUE=DATE:20251031
END:VEVENT
END:VCALENDAR
