BEGIN:VCALENDAR
VERSION:2.0
PRODID:SchoolNow
CALSCALE:GREGORIAN
BEGIN:VEVENT
UID:e1138fd4-8dbd-11f0-b9c9-0a58a9feac02
DTSTAMP:20251217T081016Z
SUMMARY:Towers Spelling Bee
URL;VALUE=URI:https://www.tusd.org/schools/towers/calendar/8601987/towers-s
 pelling-bee
DTSTART:20251113T233000Z
DTEND:20251114T003000Z
END:VEVENT
END:VCALENDAR
