BEGIN:VCALENDAR
VERSION:2.0
PRODID:SchoolNow
CALSCALE:GREGORIAN
BEGIN:VEVENT
UID:59b0fbb8-8461-11f0-8197-0a58a9feac02
DTSTAMP:20251217T081015Z
SUMMARY:Academic Pentathlon
URL;VALUE=URI:https://www.tusd.org/schools/towers/calendar/8555754/academic
 -pentathlon
DTSTART:20260424T000000Z
DTEND:20260424T020000Z
END:VEVENT
END:VCALENDAR
