BEGIN:VCALENDAR
VERSION:2.0
PRODID:SchoolNow
CALSCALE:GREGORIAN
BEGIN:VEVENT
UID:8a65983a-8098-11f0-826a-0a58a9feac02
DTSTAMP:20251217T081016Z
SUMMARY:GATE Parent Info Mtg (Zoom)
URL;VALUE=URI:https://www.tusd.org/schools/towers/calendar/8537137/gate-par
 ent-info-mtg-zoom
DTSTART:20250926T170000Z
DTEND:20250926T173000Z
END:VEVENT
END:VCALENDAR
