BEGIN:VCALENDAR
VERSION:2.0
PRODID:SchoolNow
CALSCALE:GREGORIAN
BEGIN:VEVENT
UID:0e413230-6a7e-11f0-a465-024bd1c1299b
DTSTAMP:20251217T081016Z
SUMMARY:TUSD Track Meet
URL;VALUE=URI:https://www.tusd.org/schools/towers/calendar/8448806/tusd-tra
 ck-meet
DTSTART;VALUE=DATE:20260529
DTEND;VALUE=DATE:20260530
END:VEVENT
END:VCALENDAR
