BEGIN:VCALENDAR
VERSION:2.0
PRODID:SchoolNow
CALSCALE:GREGORIAN
BEGIN:VEVENT
UID:0e413140-6a7e-11f0-8477-024bd1c1299b
DTSTAMP:20251217T081015Z
SUMMARY:Teacher/Staff Appreciation Week
URL;VALUE=URI:https://www.tusd.org/schools/towers/calendar/8448805/teacher-
 staff-appreciation-week
DTSTART;VALUE=DATE:20260504
DTEND;VALUE=DATE:20260509
END:VEVENT
END:VCALENDAR
