BEGIN:VCALENDAR
VERSION:2.0
PRODID:SchoolNow
CALSCALE:GREGORIAN
BEGIN:VEVENT
UID:0e41305a-6a7e-11f0-8c44-024bd1c1299b
DTSTAMP:20251217T081015Z
SUMMARY:5th Gr. Pali Trip
URL;VALUE=URI:https://www.tusd.org/schools/towers/calendar/8448804/5th-gr-p
 ali-trip
DTSTART;VALUE=DATE:20260415
DTEND;VALUE=DATE:20260418
END:VEVENT
END:VCALENDAR
