BEGIN:VCALENDAR
VERSION:2.0
PRODID:SchoolNow
CALSCALE:GREGORIAN
BEGIN:VEVENT
UID:0e412f74-6a7e-11f0-9f7b-024bd1c1299b
DTSTAMP:20251217T081016Z
SUMMARY:Jog-A-Thon
URL;VALUE=URI:https://www.tusd.org/schools/towers/calendar/8448803/jog-a-th
 on
DTSTART;VALUE=DATE:20260320
DTEND;VALUE=DATE:20260321
END:VEVENT
END:VCALENDAR
