BEGIN:VCALENDAR
VERSION:2.0
PRODID:SchoolNow
CALSCALE:GREGORIAN
BEGIN:VEVENT
UID:0e412e8e-6a7e-11f0-907d-024bd1c1299b
DTSTAMP:20251217T081016Z
SUMMARY:Bike Rodeo
URL;VALUE=URI:https://www.tusd.org/schools/towers/calendar/8448802/bike-rod
 eo
DTSTART;VALUE=DATE:20260227
DTEND;VALUE=DATE:20260228
END:VEVENT
END:VCALENDAR
