BEGIN:VCALENDAR
VERSION:2.0
PRODID:SchoolNow
CALSCALE:GREGORIAN
BEGIN:VEVENT
UID:0e412d94-6a7e-11f0-93be-024bd1c1299b
DTSTAMP:20251217T081016Z
SUMMARY:PTA Assoc. Mtg (HSA/Reflections)
URL;VALUE=URI:https://www.tusd.org/schools/towers/calendar/8448801/pta-asso
 c-mtg-hsa-reflections
DTSTART:20260227T030000Z
DTEND:20260227T040000Z
END:VEVENT
END:VCALENDAR
