BEGIN:VCALENDAR
VERSION:2.0
PRODID:SchoolNow
CALSCALE:GREGORIAN
BEGIN:VEVENT
UID:0e412c90-6a7e-11f0-8488-024bd1c1299b
DTSTAMP:20251217T081016Z
SUMMARY:STEAM Fair
URL;VALUE=URI:https://www.tusd.org/schools/towers/calendar/8448800/steam-fa
 ir
DTSTART:20260220T020000Z
DTEND:20260220T030000Z
END:VEVENT
END:VCALENDAR
